BEGIN:VCALENDAR
VERSION:2.0
PRODID:-//Contratero//ES
CALSCALE:GREGORIAN
METHOD:PUBLISH
BEGIN:VEVENT
UID:02.07.01.01 2026/8-SS_REYES@contratero.es
DTSTAMP:20260421T134004Z
DTSTART:20260430T235959
DTEND:20260501T005959
SUMMARY:Cierre: Mantenimiento y soporte técnico de las aplicacione
DESCRIPTION:Mantenimiento y soporte técnico de las aplicaciones de la plataforma integrada relacionadas con el padrón municipal\, la gestión contable y la gestión de expedientes electrónicos.\\n\\nOrganismo: Junta de Gobierno del Ayuntamiento de San Sebastián de los Reyes\\n\\nVer en Contratero: https://contratero.es/contracts/02.07.01.01 2026/8-SS_REYES
URL:https://contratero.es/contracts/02.07.01.01 2026/8-SS_REYES
STATUS:CONFIRMED
BEGIN:VALARM
TRIGGER:-P1D
ACTION:DISPLAY
DESCRIPTION:Recordatorio: Mantenimiento y soporte técnic
END:VALARM
END:VEVENT
END:VCALENDAR